
BEGIN:VCALENDAR
VERSION:2.0
PRODID:-//MarkedsPartner AS//Umbraco CMS//NO
TIMEZONE-ID:Europe/Oslo
X-WR-TIMEZONE:Europe/Oslo


BEGIN:VEVENT
UID:68923952de494e92957df6634eab2e35
URL:https://umbraco.naeringsforeningen.no/moeter/arkiv/100323-slik-blir-mediebyen-stavanger/
ORGANIZER;CN=Ola Normann:MAILTO:ola.normann@markedspartner.no
DTSTAMP:20230310T073000Z
DTSTART:20230310T073000Z
DTEND:20230310T090000Z
LAST-MODIFIED:20230311T041733Z
SUMMARY:Hva er Medieklyngen, og hva kan den gjøre for meg?
DESCRIPTION:GRATIS INFOMØTE: Snart tas første spadetak for Mediebyen på Nytorget, men Medieklyngen er mer enn bare et bygg. Fra starten i miljøet rundt TV 2 i Bergen, er Medieklyngen nå en nasjonal medie- og medietech-klynge med mange medlemmer i Stavanger. På dette informøtet får du vite hvordan Medieklyngen jobber, høre litt om noe prosjekter klyngen og medlemmer har jobbet med, og til slutt vite mer om planene for Mediebyen på Nytorget.
X-ALT-DESC:GRATIS INFOM&#216;TE: Snart tas f&#248;rste spadetak for Mediebyen p&#229; Nytorget, men Medieklyngen er mer enn bare et bygg. Fra starten i milj&#248;et rundt TV 2 i Bergen, er Medieklyngen n&#229; en nasjonal medie- og medietech-klynge med mange medlemmer i Stavanger. P&#229; dette inform&#248;tet f&#229;r du vite hvordan Medieklyngen jobber, h&#248;re litt om noe prosjekter klyngen og medlemmer har jobbet med, og til slutt vite mer om planene for Mediebyen p&#229; Nytorget.
LOCATION:Rosenkildehuset
END:VEVENT


END:VCALENDAR



