
BEGIN:VCALENDAR
VERSION:2.0
PRODID:-//MarkedsPartner AS//Umbraco CMS//NO
TIMEZONE-ID:Europe/Oslo
X-WR-TIMEZONE:Europe/Oslo


BEGIN:VEVENT
UID:588870ed74264d09ad1fc106034328d4
URL:https://umbraco.naeringsforeningen.no/moeter/arkiv/090622-agenda-bygg/
ORGANIZER;CN=Ola Normann:MAILTO:ola.normann@markedspartner.no
DTSTAMP:20220609T063000Z
DTSTART:20220609T063000Z
DTEND:20220609T083000Z
LAST-MODIFIED:20221031T121907Z
SUMMARY:AGENDA BYGG: Dette er arealplanene og slik kan du påvirke
DESCRIPTION:Stavanger kommune er midt i prosessen med å bestemme hvor vi skal bygge og utvikle byen de kommende årene. Nå presenterer de planene for bygg- og anleggsbransjen. Næringsforeningens Tormod Andreassen vil vise oss hvordan du og ditt selskap kan påvirke prosessen. I tillegg vil Erik Cockbain fra Rogaland fylkeskommune orientere om prosjektet «Bærekraftig boligforsyning i Rogaland». Velkommen til Agenda Bygg!
X-ALT-DESC:Stavanger kommune er midt i prosessen med &#229; bestemme hvor vi skal bygge og utvikle byen de kommende &#229;rene. N&#229; presenterer de planene for bygg- og anleggsbransjen. N&#230;ringsforeningens Tormod Andreassen vil vise oss hvordan du og ditt selskap kan p&#229;virke prosessen. I tillegg vil Erik Cockbain fra Rogaland fylkeskommune orientere om prosjektet &#171;B&#230;rekraftig boligforsyning i Rogaland&#187;. Velkommen til Agenda Bygg!
LOCATION:Rosenkildehuset
END:VEVENT


END:VCALENDAR



