
BEGIN:VCALENDAR
VERSION:2.0
PRODID:-//MarkedsPartner AS//Umbraco CMS//NO
TIMEZONE-ID:Europe/Oslo
X-WR-TIMEZONE:Europe/Oslo


BEGIN:VEVENT
UID:80fad0902a2c458b840dcb6fbf9f2b8f
URL:https://umbraco.naeringsforeningen.no/moeter/arkiv/090424-agenda-bygg/
ORGANIZER;CN=Ola Normann:MAILTO:ola.normann@markedspartner.no
DTSTAMP:20240409T063000Z
DTSTART:20240409T063000Z
DTEND:20240409T083000Z
LAST-MODIFIED:20240412T141053Z
SUMMARY:AGENDA BYGG: Well-sertifisering og omvisning på Site 4016
DESCRIPTION:WELL Building Standard er en sertifisering for helsefremmende bygg. Det nyåpnede ARK-bygget på Site 4016 var det første i Norge som oppnådde WELL pre-sertifisering på platinum-nivå. På Agenda Bygg denne gangen får du en innføring i WELL Building Standard og en omvisning i det nye signalbygget på Åsen.
X-ALT-DESC:WELL Building Standard er en sertifisering for helsefremmende bygg. Det ny&#229;pnede ARK-bygget p&#229; Site 4016 var det f&#248;rste i Norge som oppn&#229;dde WELL pre-sertifisering p&#229; platinum-niv&#229;. P&#229; Agenda Bygg denne gangen f&#229;r du en innf&#248;ring i WELL Building Standard og en omvisning i det nye signalbygget p&#229; &#197;sen.
LOCATION:ARK, Auglendsmyr&#229; 11, Site 4016
END:VEVENT


END:VCALENDAR



