
BEGIN:VCALENDAR
VERSION:2.0
PRODID:-//MarkedsPartner AS//Umbraco CMS//NO
TIMEZONE-ID:Europe/Oslo
X-WR-TIMEZONE:Europe/Oslo


BEGIN:VEVENT
UID:d5409ae3e9514b279b197bc65c74d67e
URL:https://umbraco.naeringsforeningen.no/moeter/arkiv/061222-agenda-bygg/
ORGANIZER;CN=Ola Normann:MAILTO:ola.normann@markedspartner.no
DTSTAMP:20221206T073000Z
DTSTART:20221206T073000Z
DTEND:20221206T093000Z
LAST-MODIFIED:20221216T092447Z
SUMMARY:AGENDA BYGG: Slik tar du i bruk ny og innovativ teknologi
DESCRIPTION:Digital sikkerhetsteknologi for byggeplasser, betong med nullutslipp, kundesystemer skreddersydd for håndverkere og kvalitetssystemer for VVS-bransjen. Dette er alle teknologier som utvikles for bygg- og anleggsbransjen av virksomheter i Stavanger-regionen. Bli oppdatert på teknologien, hvordan du kan ta den i bruk og fordelene med å være tidlig ute – og bli med oss når vi inviterer til Agenda Bygg i nyåpnede Innoasis.
X-ALT-DESC:Digital sikkerhetsteknologi for byggeplasser, betong med nullutslipp, kundesystemer skreddersydd for h&#229;ndverkere og kvalitetssystemer for VVS-bransjen. Dette er alle teknologier som utvikles for bygg- og anleggsbransjen av virksomheter i Stavanger-regionen. Bli oppdatert p&#229; teknologien, hvordan du kan ta den i bruk og fordelene med &#229; v&#230;re tidlig ute – og bli med oss n&#229;r vi inviterer til Agenda Bygg i ny&#229;pnede Innoasis.
LOCATION: Innoasis (Sverdrupsgate 27)
END:VEVENT


END:VCALENDAR



