
BEGIN:VCALENDAR
VERSION:2.0
PRODID:-//MarkedsPartner AS//Umbraco CMS//NO
TIMEZONE-ID:Europe/Oslo
X-WR-TIMEZONE:Europe/Oslo


BEGIN:VEVENT
UID:0e0cc57ed1a142c08b137b4de89d69ca
URL:https://umbraco.naeringsforeningen.no/moeter/arkiv/051223-agenda-bygg/
ORGANIZER;CN=Ola Normann:MAILTO:ola.normann@markedspartner.no
DTSTAMP:20231205T073000Z
DTSTART:20231205T073000Z
DTEND:20231205T093000Z
LAST-MODIFIED:20231207T122100Z
SUMMARY:AGENDA BYGG: Klima- og miljøkravene skjerpes nå
DESCRIPTION:Fra nyttår av er kommuner, fylkeskommuner og staten pålagt å vektlegge klima og miljøhensyn med 30 prosent i offentlige anskaffelser. Det vil få konsekvenser for hvem som vinner framtidige kontrakter i bygg- og anleggsbransjen. På Agenda Bygg denne gangen kommer advokat Nanna W. Christensen for å gjennomgå de skjerpede klima- og miljøkravene, og gi tips til hvordan kravene kan håndteres. Vi får også besøk av Stavanger kommune og Rogaland fylkeskommune, som vil fortelle hvordan de vil praktisere reglene.
X-ALT-DESC:Fra nytt&#229;r av er kommuner, fylkeskommuner og staten p&#229;lagt &#229; vektlegge klima og milj&#248;hensyn med 30 prosent i offentlige anskaffelser. Det vil f&#229; konsekvenser for hvem som vinner framtidige kontrakter i bygg- og anleggsbransjen. P&#229; Agenda Bygg denne gangen kommer advokat Nanna W. Christensen for &#229; gjennomg&#229; de skjerpede klima- og milj&#248;kravene, og gi tips til hvordan kravene kan h&#229;ndteres. Vi f&#229;r ogs&#229; bes&#248;k av Stavanger kommune og Rogaland fylkeskommune, som vil fortelle hvordan de vil praktisere reglene.
LOCATION:Rosenkildehuset
END:VEVENT


END:VCALENDAR



