
BEGIN:VCALENDAR
VERSION:2.0
PRODID:-//MarkedsPartner AS//Umbraco CMS//NO
TIMEZONE-ID:Europe/Oslo
X-WR-TIMEZONE:Europe/Oslo


BEGIN:VEVENT
UID:ef0515fa83a44f15b5c6d34194e80460
URL:https://umbraco.naeringsforeningen.no/moeter/arkiv/041023-agenda-bygg/
ORGANIZER;CN=Ola Normann:MAILTO:ola.normann@markedspartner.no
DTSTAMP:20231004T063000Z
DTSTART:20231004T063000Z
DTEND:20231004T081500Z
LAST-MODIFIED:20231005T140211Z
SUMMARY:AGENDA BYGG: Nå kommer strengere krav til gjenbruk
DESCRIPTION:Stavanger kommune vil kreve mer av utbyggere slik at flere bygninger beholdes helt eller delvis i nye prosjekter. I Sandnes er eldre bygninger blitt enda viktigere for å bygge byidentitet og attraktivitet. Denne gangen på Agenda bygg tar vi for oss gjenbruk og gjenbygg i byggeprosjekter og hvordan dette vil påvirke bransjen – med eksempler der det er gjort og der det er bestemt at det vil bli gjort.
X-ALT-DESC:Stavanger kommune vil kreve mer av utbyggere slik at flere bygninger beholdes helt eller delvis i nye prosjekter. I Sandnes er eldre bygninger blitt enda viktigere for &#229; bygge byidentitet og attraktivitet. Denne gangen p&#229; Agenda bygg tar vi for oss gjenbruk og gjenbygg i byggeprosjekter og hvordan dette vil p&#229;virke bransjen – med eksempler der det er gjort og der det er bestemt at det vil bli gjort.
LOCATION:Rosenkildehuset
END:VEVENT


END:VCALENDAR



