
BEGIN:VCALENDAR
VERSION:2.0
PRODID:-//MarkedsPartner AS//Umbraco CMS//NO
TIMEZONE-ID:Europe/Oslo
X-WR-TIMEZONE:Europe/Oslo


BEGIN:VEVENT
UID:51c2599c5cc842fbbae15a0c5a1bfcb7
URL:https://umbraco.naeringsforeningen.no/moeter/arkiv/040624-agenda-bygg/
ORGANIZER;CN=Ola Normann:MAILTO:ola.normann@markedspartner.no
DTSTAMP:20240604T063000Z
DTSTART:20240604T063000Z
DTEND:20240604T083000Z
LAST-MODIFIED:20240605T072100Z
SUMMARY:AGENDA BYGG: Hvorfor bygge urbant – med omvisning på K8
DESCRIPTION:Hvorfor bygge urbant og hvorfor bygge i høyden? Vi besøker K8, der daglig leder i Base Property, Andreas Poulsson, gir oss innføring i prosjektet med vekt på bærekraft, byutvikling og hva leietakerne etterspør. Jone Klingsheim i Skanska forteller om erfaringene med et såpass komplekst prosjekt, byplanlegger Monica Reinertsen fra Asplan Viak tar for seg urban planlegging – og så får vi en omvisning i nybygget.
X-ALT-DESC:Hvorfor bygge urbant og hvorfor bygge i h&#248;yden? Vi bes&#248;ker K8, der daglig leder i Base Property, Andreas Poulsson, gir oss innf&#248;ring i prosjektet med vekt p&#229; b&#230;rekraft, byutvikling og hva leietakerne ettersp&#248;r. Jone Klingsheim i Skanska forteller om erfaringene med et s&#229;pass komplekst prosjekt, byplanlegger Monica Reinertsen fra Asplan Viak tar for seg urban planlegging – og s&#229; f&#229;r vi en omvisning i nybygget.
LOCATION:K8, Knud Holms gate 8
END:VEVENT


END:VCALENDAR



