
BEGIN:VCALENDAR
VERSION:2.0
PRODID:-//MarkedsPartner AS//Umbraco CMS//NO
TIMEZONE-ID:Europe/Oslo
X-WR-TIMEZONE:Europe/Oslo


BEGIN:VEVENT
UID:d20454f1e2634bacbbe205d0fbed774d
URL:https://umbraco.naeringsforeningen.no/moeter/arkiv/021122-agenda-bygg/
ORGANIZER;CN=Ola Normann:MAILTO:ola.normann@markedspartner.no
DTSTAMP:20221102T073000Z
DTSTART:20221102T073000Z
DTEND:20221102T093000Z
LAST-MODIFIED:20221103T132743Z
SUMMARY:AGENDA BYGG: Det du må vite om solceller
DESCRIPTION:Bli oppdatert på solceller, mulighetene og framtiden. Agenda Bygg gir deg en innføring i teknologien og utviklingen – tilpasset både byggebransjen og eiendomsutviklere. Vi har med oss Åsta Veen fra Stavangerregionen Havn, Thomas Flinskau fra Integrate Renewables, Stephan Niderehe fra Multiconsult og Kristin Rekdal fra Lnett.
X-ALT-DESC:Bli oppdatert p&#229; solceller, mulighetene og framtiden. Agenda Bygg gir deg en innf&#248;ring i teknologien og utviklingen – tilpasset b&#229;de byggebransjen og eiendomsutviklere. Vi har med oss &#197;sta Veen fra Stavangerregionen Havn, Thomas Flinskau fra Integrate Renewables, Stephan Niderehe fra Multiconsult og Kristin Rekdal fra Lnett.
LOCATION:Rosenkildehuset
END:VEVENT


END:VCALENDAR



