
BEGIN:VCALENDAR
VERSION:2.0
PRODID:-//MarkedsPartner AS//Umbraco CMS//NO
TIMEZONE-ID:Europe/Oslo
X-WR-TIMEZONE:Europe/Oslo


BEGIN:VEVENT
UID:ca3a7ed8db96457484b205c12757efcd
URL:https://umbraco.naeringsforeningen.no/moeter-utenfor-kalender/vestlandskveld_arendal/
ORGANIZER;CN=Ola Normann:MAILTO:ola.normann@markedspartner.no
DTSTAMP:20220816T163000Z
DTSTART:20220816T163000Z
DTEND:20220816T210000Z
LAST-MODIFIED:20220808T140042Z
SUMMARY:Arendalsuka: Vestlandsk aften
DESCRIPTION:Næringslivet på Vestlandet inviterer til debatt, nettverksbygging og hyggelig samvær under Arendalsuka.
X-ALT-DESC:N&#230;ringslivet p&#229; Vestlandet inviterer til debatt, nettverksbygging og hyggelig samv&#230;r under Arendalsuka.
LOCATION:Rygerelektra og Vision of the Fjords
END:VEVENT


END:VCALENDAR



