
BEGIN:VCALENDAR
VERSION:2.0
PRODID:-//MarkedsPartner AS//Umbraco CMS//NO
TIMEZONE-ID:Europe/Oslo
X-WR-TIMEZONE:Europe/Oslo


BEGIN:VEVENT
UID:e5db5d25be754d4894474fbb8e00d9d9
URL:https://umbraco.naeringsforeningen.no/moeter-utenfor-kalender/folk-2022-afterwork/
ORGANIZER;CN=Ola Normann:MAILTO:ola.normann@markedspartner.no
DTSTAMP:20221104T140000Z
DTSTART:20221104T140000Z
DTEND:20221104T160000Z
LAST-MODIFIED:20221101T152745Z
SUMMARY:Afterwork for FOLK-deltakerne
DESCRIPTION:I samarbeid med Sandnes Kommune arrangeres en uformell afterwork for de som vil fortsette nettverksbyggingen etter konferansen.
X-ALT-DESC:I samarbeid med Sandnes Kommune arrangeres en uformell afterwork for de som vil fortsette nettverksbyggingen etter konferansen.
LOCATION:KinoKino, Olav Kyrresgate 5 i Sandnes
END:VEVENT


END:VCALENDAR



