
BEGIN:VCALENDAR
VERSION:2.0
PRODID:-//MarkedsPartner AS//Umbraco CMS//NO
TIMEZONE-ID:Europe/Oslo
X-WR-TIMEZONE:Europe/Oslo


BEGIN:VEVENT
UID:aea2f2c29e8e4e678a1e0102ab29cf28
URL:https://umbraco.naeringsforeningen.no/moeter-utenfor-kalender/bygg-og-anleggsskolen-hoesten-2021-alle-samlinger/
ORGANIZER;CN=Ola Normann:MAILTO:ola.normann@markedspartner.no
DTSTAMP:20210923T060000Z
DTSTART:20210923T060000Z
DTEND:20210923T083000Z
LAST-MODIFIED:20210901T142521Z
SUMMARY:Bygg- og anleggsskolen: Høsten 2021 – Alle samlinger
DESCRIPTION:Bygg- og anleggsskolen er Næringsforeningens faglige møteplass for bygg- og anleggsbransjen i Stavanger-regionen. Meld deg på alle høstens tre samlinger samlet; enkelt og til en fordelaktig pris.
X-ALT-DESC:Bygg- og anleggsskolen er N&#230;ringsforeningens faglige m&#248;teplass for bygg- og anleggsbransjen i Stavanger-regionen. Meld deg p&#229; alle h&#248;stens tre samlinger samlet; enkelt og til en fordelaktig pris.
LOCATION:Rosenkildehuset, Smedvig
END:VEVENT


END:VCALENDAR



