
BEGIN:VCALENDAR
VERSION:2.0
PRODID:-//MarkedsPartner AS//Umbraco CMS//NO
TIMEZONE-ID:Europe/Oslo
X-WR-TIMEZONE:Europe/Oslo


BEGIN:VEVENT
UID:85a3b526f7014fa0842b703ad9392d9d
URL:https://umbraco.naeringsforeningen.no/moeter-utenfor-kalender/bygg-og-anleggsskolen-hoesten-2020/
ORGANIZER;CN=Ola Normann:MAILTO:ola.normann@markedspartner.no
DTSTAMP:20200917T060000Z
DTSTART:20200917T060000Z
DTEND:20200917T083000Z
LAST-MODIFIED:20200915T070805Z
SUMMARY:Bygg- og anleggsskolen Høsten 2020 – Alle samlinger
DESCRIPTION:Bygg- og anleggsskolen er Næringsforeningens nye faglige møteplass for bygg- og anleggsbransjen i Stavanger-regionen. Meld deg på alle høstens tre samlinger samlet; enkelt og til en fordelaktig pris.
X-ALT-DESC:Bygg- og anleggsskolen er N&#230;ringsforeningens nye faglige m&#248;teplass for bygg- og anleggsbransjen i Stavanger-regionen. Meld deg p&#229; alle h&#248;stens tre samlinger samlet; enkelt og til en fordelaktig pris.
LOCATION:Clarion Hotel Energy/Scandic Stavanger Forus
END:VEVENT


END:VCALENDAR



