
BEGIN:VCALENDAR
VERSION:2.0
PRODID:-//MarkedsPartner AS//Umbraco CMS//NO
TIMEZONE-ID:Europe/Oslo
X-WR-TIMEZONE:Europe/Oslo


BEGIN:VEVENT
UID:12291d1dd4ff480daeab148c58be43ee
URL:https://umbraco.naeringsforeningen.no/moeter-utenfor-kalender/bygg-og-anleggskolen-vaaren-2021-alle-samlinger/
ORGANIZER;CN=Ola Normann:MAILTO:ola.normann@markedspartner.no
DTSTAMP:20210407T063000Z
DTSTART:20210407T063000Z
DTEND:20210407T080000Z
LAST-MODIFIED:20210406T105618Z
SUMMARY:Bygg- og anleggsskolen: Våren 2021 - Alle samlinger
DESCRIPTION:Bygg- og anleggsskolen er Næringsforeningens nye faglige møteplass for bygg- og anleggsbransjen i Stavanger-regionen. Meld deg på alle høstens tre samlinger samlet; enkelt og til en fordelaktig pris.
X-ALT-DESC:Bygg- og anleggsskolen er N&#230;ringsforeningens nye faglige m&#248;teplass for bygg- og anleggsbransjen i Stavanger-regionen. Meld deg p&#229; alle h&#248;stens tre samlinger samlet; enkelt og til en fordelaktig pris.
LOCATION:Online eller Clarion Hotel Energy
END:VEVENT


END:VCALENDAR



