
BEGIN:VCALENDAR
VERSION:2.0
PRODID:-//MarkedsPartner AS//Umbraco CMS//NO
TIMEZONE-ID:Europe/Oslo
X-WR-TIMEZONE:Europe/Oslo


BEGIN:VEVENT
UID:2f705822804a468c9560bbf57b6bc22f
URL:https://umbraco.naeringsforeningen.no/moeter-utenfor-kalender/arendalsuka-kick-off_150822/
ORGANIZER;CN=Ola Normann:MAILTO:ola.normann@markedspartner.no
DTSTAMP:20220815T093000Z
DTSTART:20220815T093000Z
DTEND:20220815T103000Z
LAST-MODIFIED:20220802T200513Z
SUMMARY:Velkommen til Arendalsuka
DESCRIPTION:Alle medarrangører på Rygerelektra er velkommen til en kick-off lunsj for å gjøre seg kjent med båten, fasilitetene og nettverket.
X-ALT-DESC:Alle medarrang&#248;rer p&#229; Rygerelektra er velkommen til en kick-off lunsj for &#229; gj&#248;re seg kjent med b&#229;ten, fasilitetene og nettverket.
LOCATION:Rygerelektra, Pollen, Arendal
END:VEVENT


END:VCALENDAR



