
BEGIN:VCALENDAR
VERSION:2.0
PRODID:-//MarkedsPartner AS//Umbraco CMS//NO
TIMEZONE-ID:Europe/Oslo
X-WR-TIMEZONE:Europe/Oslo


BEGIN:VEVENT
UID:3d6259b2627d409db916d94f3274a248
URL:https://umbraco.naeringsforeningen.no/moeter-utenfor-kalender/arendalsuka-elfly/
ORGANIZER;CN=Ola Normann:MAILTO:ola.normann@markedspartner.no
DTSTAMP:20220817T140000Z
DTSTART:20220817T140000Z
DTEND:20220817T150000Z
LAST-MODIFIED:20220815T162745Z
SUMMARY:Gi lufttrafikken elbilfordeler!
DESCRIPTION:Hvorfor bør Norge innføre elbilfordeler for elfly og utslippsfri flytrafikk? Utviklingen mot utslippsfri luftfart akselerer. I 2026 kommer sannsynligvis de første kommersielle ellyene, og fram mot 2050 blir de store utslippsfrie passasjerflyene en realitet.
X-ALT-DESC:Hvorfor b&#248;r Norge innf&#248;re elbilfordeler for elfly og utslippsfri flytrafikk? Utviklingen mot utslippsfri luftfart akselerer. I 2026 kommer sannsynligvis de f&#248;rste kommersielle ellyene, og fram mot 2050 blir de store utslippsfrie passasjerflyene en realitet.
LOCATION:Rygerelektra
END:VEVENT


END:VCALENDAR



