
BEGIN:VCALENDAR
VERSION:2.0
PRODID:-//MarkedsPartner AS//Umbraco CMS//NO
TIMEZONE-ID:Europe/Oslo
X-WR-TIMEZONE:Europe/Oslo


BEGIN:VEVENT
UID:c536577ad9004a7788a028580e347959
URL:https://umbraco.naeringsforeningen.no/moeter-utenfor-kalender/alle-samlinger-lederskolen-vaaren-2023/
ORGANIZER;CN=Ola Normann:MAILTO:ola.normann@markedspartner.no
DTSTAMP:20230307T110000Z
DTSTART:20230307T110000Z
DTEND:20230307T141500Z
LAST-MODIFIED:20230307T114450Z
SUMMARY:Alle samlinger lederskolen våren 2023
DESCRIPTION:Lederskolen er vårt beste faglige lederprogram, regionens største tverrfaglige møtested for ledere og mellomledere. Programmet er tverrfaglig tema innenfor ledelse som gir deg faglig kompetansepåfyll. Lær om aktuell forskning fra BIs dyktige forelesere og få nyttige tips for din jobb. I tillegg får du en møteplass hvor du kan bygge gode og viktige nettverk med ledere i regionen.
X-ALT-DESC:Lederskolen er v&#229;rt beste faglige lederprogram, regionens st&#248;rste tverrfaglige m&#248;tested for ledere og mellomledere. Programmet er tverrfaglig tema innenfor ledelse som gir deg faglig kompetansep&#229;fyll. L&#230;r om aktuell forskning fra BIs dyktige forelesere og f&#229; nyttige tips for din jobb. I tillegg f&#229;r du en m&#248;teplass hvor du kan bygge gode og viktige nettverk med ledere i regionen.
LOCATION:BI Stavanger, Byfjordparken 17
END:VEVENT


END:VCALENDAR



