
BEGIN:VCALENDAR
VERSION:2.0
PRODID:-//MarkedsPartner AS//Umbraco CMS//NO
TIMEZONE-ID:Europe/Oslo
X-WR-TIMEZONE:Europe/Oslo


BEGIN:VEVENT
UID:ea9f933a7e5d49e48d1b0dd13efa82f0
URL:https://umbraco.naeringsforeningen.no/moeter-utenfor-kalender/alle-samlinger-lederskolen-vaaren-2020/
ORGANIZER;CN=Ola Normann:MAILTO:ola.normann@markedspartner.no
DTSTAMP:20200124T084500Z
DTSTART:20200124T084500Z
DTEND:20200213T084500Z
LAST-MODIFIED:20200312T143830Z
SUMMARY:Alle samlinger lederskolen våren 2020
DESCRIPTION:LEDERSKOLEN I MARS OG APRIL ER UTSATT. NYE DATOER KOMMER. Lederskolen er vårt beste faglige lederprogram, regionens største tverrfaglige møtested for ledere og mellomledere. Gjennom 11 år, hver måned, har vi fylt huset med rundt 250 deltakere. Programmet er tverrfaglig tema innenfor ledelse. Lederskolen er et samarbeid med BI Stavanger.
X-ALT-DESC:LEDERSKOLEN I MARS OG APRIL ER UTSATT. NYE DATOER KOMMER. Lederskolen er v&#229;rt beste faglige lederprogram, regionens st&#248;rste tverrfaglige m&#248;tested for ledere og mellomledere. Gjennom 11 &#229;r, hver m&#229;ned, har vi fylt huset med rundt 250 deltakere. Programmet er tverrfaglig tema innenfor ledelse. Lederskolen er et samarbeid med BI Stavanger.
LOCATION:BI Stavanger
END:VEVENT


END:VCALENDAR



