
BEGIN:VCALENDAR
VERSION:2.0
PRODID:-//MarkedsPartner AS//Umbraco CMS//NO
TIMEZONE-ID:Europe/Oslo
X-WR-TIMEZONE:Europe/Oslo


BEGIN:VEVENT
UID:bd0204f7c7e24c929f85e1fee565ee15
URL:https://umbraco.naeringsforeningen.no/moeter-utenfor-kalender/alle-samlinger-lederskolen-hoest-2019/
ORGANIZER;CN=Ola Normann:MAILTO:ola.normann@markedspartner.no
DTSTAMP:20191122T084500Z
DTSTART:20191122T084500Z
DTEND:20191122T120000Z
LAST-MODIFIED:20191121T111953Z
SUMMARY:Lederskolen Høsten 2019: Alle samlingene
DESCRIPTION:I år feirer Lederskolen 10 år. Melder deg på her, og du er automatisk påmeldt alle høstens samlinger til en hyggelig pakkepris.
X-ALT-DESC:I &#229;r feirer Lederskolen 10 &#229;r. Melder deg p&#229; her, og du er automatisk p&#229;meldt alle h&#248;stens samlinger til en hyggelig pakkepris.
LOCATION:BI Stavanger, Byfjordparken 17
END:VEVENT


END:VCALENDAR



