
BEGIN:VCALENDAR
VERSION:2.0
PRODID:-//MarkedsPartner AS//Umbraco CMS//NO
TIMEZONE-ID:Europe/Oslo
X-WR-TIMEZONE:Europe/Oslo


BEGIN:VEVENT
UID:c28e643fecd644acbf26c3ada860e145
URL:https://umbraco.naeringsforeningen.no/moeter-utenfor-kalender/alle-samlinger-5050-mangfoldsprogram-2022/
ORGANIZER;CN=Ola Normann:MAILTO:ola.normann@markedspartner.no
DTSTAMP:20220323T110000Z
DTSTART:20220323T110000Z
DTEND:20220323T133000Z
LAST-MODIFIED:20220704T121448Z
SUMMARY:Alle samlinger Mangfoldsprogrammet 50/50
DESCRIPTION:Næringsforeningens ressursgruppe for mangfold inviterer til Mangfoldsprogrammet som vil styrke konkurranseevnen hos medlemsbedriftene.
X-ALT-DESC:N&#230;ringsforeningens ressursgruppe for mangfold inviterer til Mangfoldsprogrammet som vil styrke konkurranseevnen hos medlemsbedriftene.
LOCATION:online
END:VEVENT


END:VCALENDAR



