
BEGIN:VCALENDAR
VERSION:2.0
PRODID:-//MarkedsPartner AS//Umbraco CMS//NO
TIMEZONE-ID:Europe/Oslo
X-WR-TIMEZONE:Europe/Oslo


BEGIN:VEVENT
UID:eb328c30aeda417d8235801bea116580
URL:https://umbraco.naeringsforeningen.no/moeter-utenfor-kalender/alle-samlingene-i-digital-markedsfoering/
ORGANIZER;CN=Ola Normann:MAILTO:ola.normann@markedspartner.no
DTSTAMP:20191018T060000Z
DTSTART:20191018T060000Z
DTEND:20191018T080000Z
LAST-MODIFIED:20191105T141812Z
SUMMARY:Alle samlingene i Digital markedsføring
DESCRIPTION:Få fart på markedsføringen - For deg som driver med markedsføring
X-ALT-DESC:F&#229; fart p&#229; markedsf&#248;ringen - For deg som driver med markedsf&#248;ring
LOCATION:Rosenkildehuset
END:VEVENT


END:VCALENDAR



